<?xml version="1.0" encoding="utf-8"?>
    <TileMap version="1.0.0" tilemapservice="http://tms.osgeo.org/1.0.0">
      <Title>Sander_2024-12-09_P1SmartOblique_Ortho_10mm_cog.tif</Title>
      <Abstract></Abstract>
      <SRS>EPSG:3857</SRS>
      <BoundingBox minx="11.26564354431752" miny="60.36258930263649" maxx="11.27060262216198" maxy="60.36625831988635"/>
      <Origin x="11.26564354431752" y="60.36258930263649"/>
      <TileFormat width="256" height="256" mime-type="image/png" extension="png"/>
      <TileSets profile="mercator">
        <TileSet href="14" units-per-pixel="9.55462853393555" order="14"/>
        <TileSet href="15" units-per-pixel="4.77731426696777" order="15"/>
        <TileSet href="16" units-per-pixel="2.38865713348389" order="16"/>
        <TileSet href="17" units-per-pixel="1.19432856674194" order="17"/>
        <TileSet href="18" units-per-pixel="0.59716428337097" order="18"/>
        <TileSet href="19" units-per-pixel="0.29858214168549" order="19"/>
        <TileSet href="20" units-per-pixel="0.14929107084274" order="20"/>
        <TileSet href="21" units-per-pixel="0.07464553542137" order="21"/>
        <TileSet href="22" units-per-pixel="0.03732276771069" order="22"/>
      </TileSets>
    </TileMap>
    